BEGIN:VCALENDAR
VERSION:2.0
PRODID:-//Fundaci&oacute;n Cali - ECPv6.15.12.2//NONSGML v1.0//EN
CALSCALE:GREGORIAN
METHOD:PUBLISH
X-ORIGINAL-URL:https://www.califoundation.org
X-WR-CALDESC:Eventos para Fundaci&oacute;n Cali
REFRESH-INTERVAL;VALUE=DURATION:PT1H
X-Robots-Tag:noindex
X-PUBLISHED-TTL:PT1H
BEGIN:VTIMEZONE
TZID:America/Chicago
BEGIN:DAYLIGHT
TZOFFSETFROM:-0600
TZOFFSETTO:-0500
TZNAME:CDT
DTSTART:20250309T080000
END:DAYLIGHT
BEGIN:STANDARD
TZOFFSETFROM:-0500
TZOFFSETTO:-0600
TZNAME:CST
DTSTART:20251102T070000
END:STANDARD
BEGIN:DAYLIGHT
TZOFFSETFROM:-0600
TZOFFSETTO:-0500
TZNAME:CDT
DTSTART:20260308T080000
END:DAYLIGHT
BEGIN:STANDARD
TZOFFSETFROM:-0500
TZOFFSETTO:-0600
TZNAME:CST
DTSTART:20261101T070000
END:STANDARD
BEGIN:DAYLIGHT
TZOFFSETFROM:-0600
TZOFFSETTO:-0500
TZNAME:CDT
DTSTART:20270314T080000
END:DAYLIGHT
BEGIN:STANDARD
TZOFFSETFROM:-0500
TZOFFSETTO:-0600
TZNAME:CST
DTSTART:20271107T070000
END:STANDARD
END:VTIMEZONE
BEGIN:VEVENT
DTSTART;VALUE=DATE:20260602
DTEND;VALUE=DATE:20260607
DTSTAMP:20260423T120259
CREATED:20250918T141926Z
LAST-MODIFIED:20250918T141926Z
UID:2884-1780358400-1780790399@www.califoundation.org
SUMMARY:Seminar 17.4: The Promise of Leadership
DESCRIPTION:Class 17\nSeminar 17.4: The Promise of Leadership\nGraduation seminar
URL:https://www.califoundation.org/event/seminar-17-4-the-promise-of-leadership/
END:VEVENT
BEGIN:VEVENT
DTSTART;VALUE=DATE:20260616
DTEND;VALUE=DATE:20260617
DTSTAMP:20260423T120259
CREATED:20250519T205404Z
LAST-MODIFIED:20250519T205404Z
UID:2481-1781568000-1781654399@www.califoundation.org
SUMMARY:Lideremos Panama Inaugural Cohort - Second Virtual Encounter
DESCRIPTION:
URL:https://www.califoundation.org/event/lideremos-panama-inaugural-cohort-second-virtual-encounter/
END:VEVENT
BEGIN:VEVENT
DTSTART;VALUE=DATE:20260623
DTEND;VALUE=DATE:20260625
DTSTAMP:20260423T120259
CREATED:20251119T194150Z
LAST-MODIFIED:20251119T194150Z
UID:2923-1782172800-1782345599@www.califoundation.org
SUMMARY:Lideremos Guatemala Cohort 3
DESCRIPTION:Lideremos Guatemala Cohort 3 \nFirst leadership immersion
URL:https://www.califoundation.org/event/lideremos-guatemala-cohort-3-2/
END:VEVENT
BEGIN:VEVENT
DTSTART;VALUE=DATE:20260623
DTEND;VALUE=DATE:20260627
DTSTAMP:20260423T120259
CREATED:20251119T194218Z
LAST-MODIFIED:20251119T194218Z
UID:2925-1782172800-1782518399@www.califoundation.org
SUMMARY:Lideremos Costa Rica Inaugural Cohort
DESCRIPTION:Lideremos Costa Rica Inaugural Cohort \nFirst Seminar
URL:https://www.califoundation.org/event/lideremos-costa-rica-inaugural-cohort/
END:VEVENT
END:VCALENDAR