BEGIN:VCALENDAR
VERSION:2.0
PRODID:-//Fundaci&oacute;n Cali - ECPv6.15.12.2//NONSGML v1.0//EN
CALSCALE:GREGORIAN
METHOD:PUBLISH
X-ORIGINAL-URL:https://www.califoundation.org
X-WR-CALDESC:Eventos para Fundaci&oacute;n Cali
REFRESH-INTERVAL;VALUE=DURATION:PT1H
X-Robots-Tag:noindex
X-PUBLISHED-TTL:PT1H
BEGIN:VTIMEZONE
TZID:America/Chicago
BEGIN:DAYLIGHT
TZOFFSETFROM:-0600
TZOFFSETTO:-0500
TZNAME:CDT
DTSTART:20240310T080000
END:DAYLIGHT
BEGIN:STANDARD
TZOFFSETFROM:-0500
TZOFFSETTO:-0600
TZNAME:CST
DTSTART:20241103T070000
END:STANDARD
BEGIN:DAYLIGHT
TZOFFSETFROM:-0600
TZOFFSETTO:-0500
TZNAME:CDT
DTSTART:20250309T080000
END:DAYLIGHT
BEGIN:STANDARD
TZOFFSETFROM:-0500
TZOFFSETTO:-0600
TZNAME:CST
DTSTART:20251102T070000
END:STANDARD
BEGIN:DAYLIGHT
TZOFFSETFROM:-0600
TZOFFSETTO:-0500
TZNAME:CDT
DTSTART:20260308T080000
END:DAYLIGHT
BEGIN:STANDARD
TZOFFSETFROM:-0500
TZOFFSETTO:-0600
TZNAME:CST
DTSTART:20261101T070000
END:STANDARD
END:VTIMEZONE
BEGIN:VEVENT
DTSTART;VALUE=DATE:20250930
DTEND;VALUE=DATE:20251005
DTSTAMP:20260423T192818
CREATED:20250918T142028Z
LAST-MODIFIED:20250918T142028Z
UID:2888-1759190400-1759622399@www.califoundation.org
SUMMARY:Lideremos Panamá Cohort 2
DESCRIPTION:Lideremos Panamá Cohort 2\nSeminar 2.2
URL:https://www.califoundation.org/event/lideremos-panama-cohort-2-2/
END:VEVENT
BEGIN:VEVENT
DTSTART;VALUE=DATE:20251007
DTEND;VALUE=DATE:20251012
DTSTAMP:20260423T192818
CREATED:20241106T154631Z
LAST-MODIFIED:20250918T141258Z
UID:2332-1759795200-1760227199@www.califoundation.org
SUMMARY:Seminar 18.1: The Challenge of Leadership
DESCRIPTION:Class 18\nSeminar 18.1: The Challenge of Leadership\nINCAE Business School\, Costa Rica
URL:https://www.califoundation.org/event/seminario-18-1/
END:VEVENT
BEGIN:VEVENT
DTSTART;VALUE=DATE:20251020
DTEND;VALUE=DATE:20251022
DTSTAMP:20260423T192818
CREATED:20250519T205007Z
LAST-MODIFIED:20250519T205012Z
UID:2465-1760918400-1761091199@www.califoundation.org
SUMMARY:Aspen Ideas: Economy Newark\, New Jersey
DESCRIPTION:
URL:https://www.califoundation.org/event/aspen-ideas-economy-newark-new-jersey/
END:VEVENT
BEGIN:VEVENT
DTSTART;VALUE=DATE:20251020
DTEND;VALUE=DATE:20251025
DTSTAMP:20260423T192818
CREATED:20250918T142116Z
LAST-MODIFIED:20250918T142116Z
UID:2890-1760918400-1761350399@www.califoundation.org
SUMMARY:Seminar 19.1: The Challenge of Leadership
DESCRIPTION:Class 19\nSeminar 19.1: The Challenge of Leadership
URL:https://www.califoundation.org/event/seminar-19-1-the-challenge-of-leadership/
END:VEVENT
BEGIN:VEVENT
DTSTART;VALUE=DATE:20251023
DTEND;VALUE=DATE:20251024
DTSTAMP:20260423T192818
CREATED:20250918T141648Z
LAST-MODIFIED:20250918T141648Z
UID:2876-1761177600-1761263999@www.califoundation.org
SUMMARY:CALI Day Guatemala
DESCRIPTION:
URL:https://www.califoundation.org/event/cali-day-guatemala-2/
END:VEVENT
BEGIN:VEVENT
DTSTART;VALUE=DATE:20251025
DTEND;VALUE=DATE:20251026
DTSTAMP:20260423T192818
CREATED:20250918T141708Z
LAST-MODIFIED:20251002T212127Z
UID:2878-1761350400-1761436799@www.califoundation.org
SUMMARY:CALI Day Panama 
DESCRIPTION:
URL:https://www.califoundation.org/event/cali-day-panama/
END:VEVENT
BEGIN:VEVENT
DTSTART;VALUE=DATE:20251028
DTEND;VALUE=DATE:20251030
DTSTAMP:20260423T192818
CREATED:20250519T205106Z
LAST-MODIFIED:20250731T214417Z
UID:2467-1761609600-1761782399@www.califoundation.org
SUMMARY:Lideremos Panamá Inaugural Cohort  - First Leadership Immersion
DESCRIPTION:
URL:https://www.califoundation.org/event/lideremos-panama-inaugural-cohort-first-leadership-immersion/
END:VEVENT
BEGIN:VEVENT
DTSTART;TZID=America/Chicago:20251028T170000
DTEND;TZID=America/Chicago:20251028T190000
DTSTAMP:20260423T192818
CREATED:20241106T155051Z
LAST-MODIFIED:20250918T141423Z
UID:2342-1761670800-1761678000@www.califoundation.org
SUMMARY:Lideremos Guatemala - Segundo Cohorte
DESCRIPTION:Primer Encuentro Virtual
URL:https://www.califoundation.org/event/segundo-cohorte-lideremos-guatemala-primer-encuentro-virtual/
END:VEVENT
END:VCALENDAR