BEGIN:VCALENDAR
VERSION:2.0
PRODID:-//Fundaci&oacute;n Cali - ECPv6.15.12.2//NONSGML v1.0//EN
CALSCALE:GREGORIAN
METHOD:PUBLISH
X-WR-CALNAME:Fundaci&oacute;n Cali
X-ORIGINAL-URL:https://www.califoundation.org
X-WR-CALDESC:Eventos para Fundaci&oacute;n Cali
REFRESH-INTERVAL;VALUE=DURATION:PT1H
X-Robots-Tag:noindex
X-PUBLISHED-TTL:PT1H
BEGIN:VTIMEZONE
TZID:America/Chicago
BEGIN:DAYLIGHT
TZOFFSETFROM:-0600
TZOFFSETTO:-0500
TZNAME:CDT
DTSTART:20230312T080000
END:DAYLIGHT
BEGIN:STANDARD
TZOFFSETFROM:-0500
TZOFFSETTO:-0600
TZNAME:CST
DTSTART:20231105T070000
END:STANDARD
BEGIN:DAYLIGHT
TZOFFSETFROM:-0600
TZOFFSETTO:-0500
TZNAME:CDT
DTSTART:20240310T080000
END:DAYLIGHT
BEGIN:STANDARD
TZOFFSETFROM:-0500
TZOFFSETTO:-0600
TZNAME:CST
DTSTART:20241103T070000
END:STANDARD
BEGIN:DAYLIGHT
TZOFFSETFROM:-0600
TZOFFSETTO:-0500
TZNAME:CDT
DTSTART:20250309T080000
END:DAYLIGHT
BEGIN:STANDARD
TZOFFSETFROM:-0500
TZOFFSETTO:-0600
TZNAME:CST
DTSTART:20251102T070000
END:STANDARD
END:VTIMEZONE
BEGIN:VEVENT
DTSTART;VALUE=DATE:20240310
DTEND;VALUE=DATE:20240314
DTSTAMP:20260423T152017
CREATED:20240305T183800Z
LAST-MODIFIED:20240305T183800Z
UID:1693-1710108000-1710367199@www.califoundation.org
SUMMARY:Aspen Ideas: Climate
DESCRIPTION:
URL:https://www.califoundation.org/event/aspen-ideas-climate/
END:VEVENT
BEGIN:VEVENT
DTSTART;TZID=America/Chicago:20240307T080000
DTEND;TZID=America/Chicago:20240307T170000
DTSTAMP:20260423T152017
CREATED:20240307T192953Z
LAST-MODIFIED:20240307T192953Z
UID:1708-1709798400-1709830800@www.califoundation.org
SUMMARY:Seminario 2 Programa HOLA
DESCRIPTION:
URL:https://www.califoundation.org/event/seminario-2-programa-hola/
END:VEVENT
END:VCALENDAR