BEGIN:VCALENDAR
VERSION:2.0
PRODID:-//Fundaci&oacute;n Cali - ECPv6.15.12.2//NONSGML v1.0//EN
CALSCALE:GREGORIAN
METHOD:PUBLISH
X-WR-CALNAME:Fundaci&oacute;n Cali
X-ORIGINAL-URL:https://www.califoundation.org
X-WR-CALDESC:Eventos para Fundaci&oacute;n Cali
REFRESH-INTERVAL;VALUE=DURATION:PT1H
X-Robots-Tag:noindex
X-PUBLISHED-TTL:PT1H
BEGIN:VTIMEZONE
TZID:America/Chicago
BEGIN:DAYLIGHT
TZOFFSETFROM:-0600
TZOFFSETTO:-0500
TZNAME:CDT
DTSTART:20230312T080000
END:DAYLIGHT
BEGIN:STANDARD
TZOFFSETFROM:-0500
TZOFFSETTO:-0600
TZNAME:CST
DTSTART:20231105T070000
END:STANDARD
BEGIN:DAYLIGHT
TZOFFSETFROM:-0600
TZOFFSETTO:-0500
TZNAME:CDT
DTSTART:20240310T080000
END:DAYLIGHT
BEGIN:STANDARD
TZOFFSETFROM:-0500
TZOFFSETTO:-0600
TZNAME:CST
DTSTART:20241103T070000
END:STANDARD
BEGIN:DAYLIGHT
TZOFFSETFROM:-0600
TZOFFSETTO:-0500
TZNAME:CDT
DTSTART:20250309T080000
END:DAYLIGHT
BEGIN:STANDARD
TZOFFSETFROM:-0500
TZOFFSETTO:-0600
TZNAME:CST
DTSTART:20251102T070000
END:STANDARD
BEGIN:DAYLIGHT
TZOFFSETFROM:-0600
TZOFFSETTO:-0500
TZNAME:CDT
DTSTART:20260308T080000
END:DAYLIGHT
BEGIN:STANDARD
TZOFFSETFROM:-0500
TZOFFSETTO:-0600
TZNAME:CST
DTSTART:20261101T070000
END:STANDARD
END:VTIMEZONE
BEGIN:VEVENT
DTSTART;VALUE=DATE:20251025
DTEND;VALUE=DATE:20251026
DTSTAMP:20260423T102803
CREATED:20250918T141708Z
LAST-MODIFIED:20251002T212127Z
UID:2878-1761350400-1761436799@www.califoundation.org
SUMMARY:CALI Day Panama 
DESCRIPTION:
URL:https://www.califoundation.org/event/cali-day-panama/
END:VEVENT
BEGIN:VEVENT
DTSTART;VALUE=DATE:20251023
DTEND;VALUE=DATE:20251024
DTSTAMP:20260423T102803
CREATED:20250918T141648Z
LAST-MODIFIED:20250918T141648Z
UID:2876-1761177600-1761263999@www.califoundation.org
SUMMARY:CALI Day Guatemala
DESCRIPTION:
URL:https://www.califoundation.org/event/cali-day-guatemala-2/
END:VEVENT
BEGIN:VEVENT
DTSTART;VALUE=DATE:20251020
DTEND;VALUE=DATE:20251025
DTSTAMP:20260423T102803
CREATED:20250918T142116Z
LAST-MODIFIED:20250918T142116Z
UID:2890-1760918400-1761350399@www.califoundation.org
SUMMARY:Seminar 19.1: The Challenge of Leadership
DESCRIPTION:Class 19\nSeminar 19.1: The Challenge of Leadership
URL:https://www.califoundation.org/event/seminar-19-1-the-challenge-of-leadership/
END:VEVENT
BEGIN:VEVENT
DTSTART;VALUE=DATE:20251020
DTEND;VALUE=DATE:20251022
DTSTAMP:20260423T102803
CREATED:20250519T205007Z
LAST-MODIFIED:20250519T205012Z
UID:2465-1760918400-1761091199@www.califoundation.org
SUMMARY:Aspen Ideas: Economy Newark\, New Jersey
DESCRIPTION:
URL:https://www.califoundation.org/event/aspen-ideas-economy-newark-new-jersey/
END:VEVENT
BEGIN:VEVENT
DTSTART;VALUE=DATE:20251007
DTEND;VALUE=DATE:20251012
DTSTAMP:20260423T102803
CREATED:20241106T154631Z
LAST-MODIFIED:20250918T141258Z
UID:2332-1759795200-1760227199@www.califoundation.org
SUMMARY:Seminar 18.1: The Challenge of Leadership
DESCRIPTION:Class 18\nSeminar 18.1: The Challenge of Leadership\nINCAE Business School\, Costa Rica
URL:https://www.califoundation.org/event/seminario-18-1/
END:VEVENT
BEGIN:VEVENT
DTSTART;VALUE=DATE:20250930
DTEND;VALUE=DATE:20251005
DTSTAMP:20260423T102803
CREATED:20250918T142028Z
LAST-MODIFIED:20250918T142028Z
UID:2888-1759190400-1759622399@www.califoundation.org
SUMMARY:Lideremos Panamá Cohort 2
DESCRIPTION:Lideremos Panamá Cohort 2\nSeminar 2.2
URL:https://www.califoundation.org/event/lideremos-panama-cohort-2-2/
END:VEVENT
BEGIN:VEVENT
DTSTART;VALUE=DATE:20250925
DTEND;VALUE=DATE:20250926
DTSTAMP:20260423T102803
CREATED:20250918T141632Z
LAST-MODIFIED:20250918T141632Z
UID:2874-1758758400-1758844799@www.califoundation.org
SUMMARY:CALI Day Honduras
DESCRIPTION:
URL:https://www.califoundation.org/event/cali-day-honduras-2/
END:VEVENT
BEGIN:VEVENT
DTSTART;VALUE=DATE:20250903
DTEND;VALUE=DATE:20250908
DTSTAMP:20260423T102803
CREATED:20240930T142210Z
LAST-MODIFIED:20240930T142210Z
UID:2236-1756857600-1757289599@www.califoundation.org
SUMMARY:HOLA Cohorte 2 - Seminario 2
DESCRIPTION:
URL:https://www.califoundation.org/event/hola-cohorte-2-seminario-2/
END:VEVENT
BEGIN:VEVENT
DTSTART;VALUE=DATE:20250827
DTEND;VALUE=DATE:20250831
DTSTAMP:20260423T102803
CREATED:20241218T161941Z
LAST-MODIFIED:20241218T161941Z
UID:2418-1756252800-1756598399@www.califoundation.org
SUMMARY:Seminario 1: Lideremos Panamá
DESCRIPTION:
URL:https://www.califoundation.org/event/seminario-1-lideremos-panama/
END:VEVENT
BEGIN:VEVENT
DTSTART;VALUE=DATE:20250722
DTEND;VALUE=DATE:20250726
DTSTAMP:20260423T102803
CREATED:20240815T154751Z
LAST-MODIFIED:20240815T154751Z
UID:2226-1753142400-1753487999@www.califoundation.org
SUMMARY:2025 Resnick Aspen Action Forum
DESCRIPTION:
URL:https://www.califoundation.org/event/2025-resnick-aspen-action-forum/
END:VEVENT
BEGIN:VEVENT
DTSTART;VALUE=DATE:20250721
DTEND;VALUE=DATE:20250723
DTSTAMP:20260423T102803
CREATED:20250519T204853Z
LAST-MODIFIED:20250519T204853Z
UID:2463-1753056000-1753228799@www.califoundation.org
SUMMARY:Aspen Ideas: Climate  Chicago\, US
DESCRIPTION:Register
URL:https://www.califoundation.org/event/aspen-ideas-climate-chicago-us/
END:VEVENT
BEGIN:VEVENT
DTSTART;VALUE=DATE:20250702
DTEND;VALUE=DATE:20250704
DTSTAMP:20260423T102803
CREATED:20241106T154958Z
LAST-MODIFIED:20241106T154958Z
UID:2340-1751414400-1751587199@www.califoundation.org
SUMMARY:Segundo Cohorte Lideremos Guatemala: Primera Visita
DESCRIPTION:
URL:https://www.califoundation.org/event/segundo-cohorte-lideremos-guatemala-primera-visita/
END:VEVENT
BEGIN:VEVENT
DTSTART;VALUE=DATE:20250625
DTEND;VALUE=DATE:20250702
DTSTAMP:20260423T102803
CREATED:20241218T161914Z
LAST-MODIFIED:20241218T161914Z
UID:2416-1750809600-1751414399@www.califoundation.org
SUMMARY:Aspen Ideas Festival
DESCRIPTION:
URL:https://www.califoundation.org/event/aspen-ideas-festival-2/
END:VEVENT
BEGIN:VEVENT
DTSTART;VALUE=DATE:20250622
DTEND;VALUE=DATE:20250626
DTSTAMP:20260423T102803
CREATED:20241218T161837Z
LAST-MODIFIED:20241218T161837Z
UID:2414-1750550400-1750895999@www.califoundation.org
SUMMARY:Aspen Ideas Health
DESCRIPTION:
URL:https://www.califoundation.org/event/aspen-ideas-health-2/
END:VEVENT
BEGIN:VEVENT
DTSTART;VALUE=DATE:20250513
DTEND;VALUE=DATE:20250517
DTSTAMP:20260423T102803
CREATED:20250519T204732Z
LAST-MODIFIED:20250519T204732Z
UID:2461-1747094400-1747439999@www.califoundation.org
SUMMARY:Lideremos Guatemala Cohort 2  Seminar 1
DESCRIPTION:
URL:https://www.califoundation.org/event/lideremos-guatemala-cohort-2-seminar-1/
END:VEVENT
BEGIN:VEVENT
DTSTART;VALUE=DATE:20250513
DTEND;VALUE=DATE:20250517
DTSTAMP:20260423T102803
CREATED:20241106T154926Z
LAST-MODIFIED:20241106T154926Z
UID:2338-1747094400-1747439999@www.califoundation.org
SUMMARY:Segundo Cohorte Lideremos Guatemala: Seminario de Apertura
DESCRIPTION:
URL:https://www.califoundation.org/event/segundo-cohorte-lideremos-guatemala-seminario-de-apertura/
END:VEVENT
BEGIN:VEVENT
DTSTART;VALUE=DATE:20250219
DTEND;VALUE=DATE:20250223
DTSTAMP:20260423T102803
CREATED:20240315T200159Z
LAST-MODIFIED:20240315T200159Z
UID:1720-1739923200-1740268799@www.califoundation.org
SUMMARY:CALI Regional
DESCRIPTION:
URL:https://www.califoundation.org/event/cali-regional/
END:VEVENT
BEGIN:VEVENT
DTSTART;VALUE=DATE:20250129
DTEND;VALUE=DATE:20250202
DTSTAMP:20260423T102803
CREATED:20240930T142057Z
LAST-MODIFIED:20240930T142117Z
UID:2233-1738108800-1738454399@www.califoundation.org
SUMMARY:HOLA Cohorte 2 - Seminario 1
DESCRIPTION:
URL:https://www.califoundation.org/event/seminario-1-hola-cohorte-2/
END:VEVENT
BEGIN:VEVENT
DTSTART;VALUE=DATE:20250125
DTEND;VALUE=DATE:20250131
DTSTAMP:20260423T102803
CREATED:20250519T205227Z
LAST-MODIFIED:20250519T205227Z
UID:2473-1737763200-1738281599@www.califoundation.org
SUMMARY:Leading in a Global Context Seminar - Hong Kong
DESCRIPTION:
URL:https://www.califoundation.org/event/leading-in-a-global-context-seminar-hong-kong/
END:VEVENT
BEGIN:VEVENT
DTSTART;VALUE=DATE:20241118
DTEND;VALUE=DATE:20250118
DTSTAMP:20260423T102803
CREATED:20241106T154549Z
LAST-MODIFIED:20241106T154549Z
UID:2330-1731888000-1737158399@www.califoundation.org
SUMMARY:Periodo de Nominación Clase 18
DESCRIPTION:
URL:https://www.califoundation.org/event/periodo-de-nominacion-clase-18/
END:VEVENT
BEGIN:VEVENT
DTSTART;VALUE=DATE:20241026
DTEND;VALUE=DATE:20241027
DTSTAMP:20260423T102803
CREATED:20240520T203739Z
LAST-MODIFIED:20240930T142006Z
UID:1776-1729900800-1729987199@www.califoundation.org
SUMMARY:CALI Day Miami
DESCRIPTION:
URL:https://www.califoundation.org/event/cali-day-miami/
END:VEVENT
BEGIN:VEVENT
DTSTART;VALUE=DATE:20241019
DTEND;VALUE=DATE:20241020
DTSTAMP:20260423T102803
CREATED:20240523T202800Z
LAST-MODIFIED:20240523T202800Z
UID:1782-1729296000-1729382399@www.califoundation.org
SUMMARY:CALI Day de Panamá
DESCRIPTION:
URL:https://www.califoundation.org/event/cali-day-de-panama/
END:VEVENT
BEGIN:VEVENT
DTSTART;VALUE=DATE:20241010
DTEND;VALUE=DATE:20241015
DTSTAMP:20260423T102803
CREATED:20240520T203630Z
LAST-MODIFIED:20240816T160109Z
UID:1774-1728518400-1728950399@www.califoundation.org
SUMMARY:Second Seminar: Lideremos Guatemala
DESCRIPTION:
URL:https://www.califoundation.org/event/second-seminar-lideremos-guatemala/
END:VEVENT
BEGIN:VEVENT
DTSTART;VALUE=DATE:20240930
DTEND;VALUE=DATE:20241005
DTSTAMP:20260423T102803
CREATED:20240315T165502Z
LAST-MODIFIED:20240620T144327Z
UID:1717-1727654400-1728086399@www.califoundation.org
SUMMARY:Seminar 17.1: The Challenge of Leadership
DESCRIPTION:
URL:https://www.califoundation.org/event/seminar-17-1-the-challenge-of-leadership/
END:VEVENT
BEGIN:VEVENT
DTSTART;VALUE=DATE:20240907
DTEND;VALUE=DATE:20240908
DTSTAMP:20260423T102803
CREATED:20240523T202339Z
LAST-MODIFIED:20240523T202339Z
UID:1780-1725667200-1725753599@www.califoundation.org
SUMMARY:CALI Day de El Salvador
DESCRIPTION:
URL:https://www.califoundation.org/event/cali-day-de-el-salvador/
END:VEVENT
BEGIN:VEVENT
DTSTART;VALUE=DATE:20240905
DTEND;VALUE=DATE:20240906
DTSTAMP:20260423T102803
CREATED:20240814T201605Z
LAST-MODIFIED:20240814T201605Z
UID:2224-1725494400-1725580799@www.califoundation.org
SUMMARY:CALI Day Honduras
DESCRIPTION:
URL:https://www.califoundation.org/event/cali-day-honduras/
END:VEVENT
BEGIN:VEVENT
DTSTART;VALUE=DATE:20240831
DTEND;VALUE=DATE:20240901
DTSTAMP:20260423T102803
CREATED:20240520T203540Z
LAST-MODIFIED:20240520T204008Z
UID:1771-1725062400-1725148799@www.califoundation.org
SUMMARY:CALI Day Costa Rica
DESCRIPTION:
URL:https://www.califoundation.org/event/cali-day-costa-rica/
END:VEVENT
BEGIN:VEVENT
DTSTART;VALUE=DATE:20240723
DTEND;VALUE=DATE:20240727
DTSTAMP:20260423T102803
CREATED:20240307T192854Z
LAST-MODIFIED:20240315T165745Z
UID:1706-1721692800-1722038399@www.califoundation.org
SUMMARY:Resnick Aspen Action Forum
DESCRIPTION:
URL:https://www.califoundation.org/event/resnick-aspen-action-forum/
END:VEVENT
BEGIN:VEVENT
DTSTART;VALUE=DATE:20240626
DTEND;VALUE=DATE:20240630
DTSTAMP:20260423T102803
CREATED:20240520T203301Z
LAST-MODIFIED:20240520T203301Z
UID:1765-1719360000-1719705599@www.califoundation.org
SUMMARY:HOLA’s second seminar
DESCRIPTION:
URL:https://www.califoundation.org/event/holas-second-seminar/
LOCATION:Centro Kellog\, Honduras
END:VEVENT
BEGIN:VEVENT
DTSTART;VALUE=DATE:20240623
DTEND;VALUE=DATE:20240630
DTSTAMP:20260423T102803
CREATED:20240305T183939Z
LAST-MODIFIED:20240305T183939Z
UID:1697-1719100800-1719705599@www.califoundation.org
SUMMARY:Aspen Ideas Festival
DESCRIPTION:
URL:https://www.califoundation.org/event/aspen-ideas-festival/
END:VEVENT
END:VCALENDAR