BEGIN:VCALENDAR
VERSION:2.0
PRODID:-//Fundaci&oacute;n Cali - ECPv6.15.12.2//NONSGML v1.0//EN
CALSCALE:GREGORIAN
METHOD:PUBLISH
X-WR-CALNAME:Fundaci&oacute;n Cali
X-ORIGINAL-URL:https://www.califoundation.org
X-WR-CALDESC:Eventos para Fundaci&oacute;n Cali
REFRESH-INTERVAL;VALUE=DURATION:PT1H
X-Robots-Tag:noindex
X-PUBLISHED-TTL:PT1H
BEGIN:VTIMEZONE
TZID:America/Chicago
BEGIN:DAYLIGHT
TZOFFSETFROM:-0600
TZOFFSETTO:-0500
TZNAME:CDT
DTSTART:20250309T080000
END:DAYLIGHT
BEGIN:STANDARD
TZOFFSETFROM:-0500
TZOFFSETTO:-0600
TZNAME:CST
DTSTART:20251102T070000
END:STANDARD
BEGIN:DAYLIGHT
TZOFFSETFROM:-0600
TZOFFSETTO:-0500
TZNAME:CDT
DTSTART:20260308T080000
END:DAYLIGHT
BEGIN:STANDARD
TZOFFSETFROM:-0500
TZOFFSETTO:-0600
TZNAME:CST
DTSTART:20261101T070000
END:STANDARD
BEGIN:DAYLIGHT
TZOFFSETFROM:-0600
TZOFFSETTO:-0500
TZNAME:CDT
DTSTART:20270314T080000
END:DAYLIGHT
BEGIN:STANDARD
TZOFFSETFROM:-0500
TZOFFSETTO:-0600
TZNAME:CST
DTSTART:20271107T070000
END:STANDARD
BEGIN:DAYLIGHT
TZOFFSETFROM:-0600
TZOFFSETTO:-0500
TZNAME:CDT
DTSTART:20280312T080000
END:DAYLIGHT
BEGIN:STANDARD
TZOFFSETFROM:-0500
TZOFFSETTO:-0600
TZNAME:CST
DTSTART:20281105T070000
END:STANDARD
BEGIN:DAYLIGHT
TZOFFSETFROM:-0600
TZOFFSETTO:-0500
TZNAME:CDT
DTSTART:20290311T080000
END:DAYLIGHT
BEGIN:STANDARD
TZOFFSETFROM:-0500
TZOFFSETTO:-0600
TZNAME:CST
DTSTART:20291104T070000
END:STANDARD
END:VTIMEZONE
BEGIN:VEVENT
DTSTART;VALUE=DATE:20260419
DTEND;VALUE=DATE:20260426
DTSTAMP:20260423T051524
CREATED:20241106T154702Z
LAST-MODIFIED:20250918T141459Z
UID:2334-1776556800-1777161599@www.califoundation.org
SUMMARY:Seminar 18.2: The Aspen Seminar
DESCRIPTION:Class 18\nSeminar 18.2: The Aspen Seminar\nPanama
URL:https://www.califoundation.org/event/seminario-18-2/
END:VEVENT
BEGIN:VEVENT
DTSTART;VALUE=DATE:20260428
DTEND;VALUE=DATE:20260430
DTSTAMP:20260423T051524
CREATED:20250519T205345Z
LAST-MODIFIED:20250519T205345Z
UID:2479-1777334400-1777507199@www.califoundation.org
SUMMARY:Lideremos Panama Inaugural Cohort - Second Leadership Immersion
DESCRIPTION:
URL:https://www.califoundation.org/event/lideremos-panama-inaugural-cohort-second-leadership-immersion/
END:VEVENT
BEGIN:VEVENT
DTSTART;VALUE=DATE:20260505
DTEND;VALUE=DATE:20260509
DTSTAMP:20260423T051524
CREATED:20241106T155251Z
LAST-MODIFIED:20250918T141540Z
UID:2349-1777939200-1778284799@www.califoundation.org
SUMMARY:Lideremos Guatemala Segundo Cohorte: Seminario de Graduación
DESCRIPTION:Lideremos Guatemala Segundo Cohorte: Seminario de Graduación
URL:https://www.califoundation.org/event/segundo-cohorte-lideremos-guatemala-seminario-de-cierre/
END:VEVENT
BEGIN:VEVENT
DTSTART;VALUE=DATE:20260505
DTEND;VALUE=DATE:20260509
DTSTAMP:20260423T051524
CREATED:20251119T194052Z
LAST-MODIFIED:20251119T194052Z
UID:2919-1777939200-1778284799@www.califoundation.org
SUMMARY:Lideremos Guatemala Cohort 2
DESCRIPTION:Lideremos Guatemala Cohort 2 \nGraduation seminar
URL:https://www.califoundation.org/event/lideremos-guatemala-cohort-2-2/
END:VEVENT
BEGIN:VEVENT
DTSTART;VALUE=DATE:20260526
DTEND;VALUE=DATE:20260530
DTSTAMP:20260423T051524
CREATED:20251119T194119Z
LAST-MODIFIED:20251119T194119Z
UID:2921-1779753600-1780099199@www.califoundation.org
SUMMARY:Lideremos Guatemala Cohort 3
DESCRIPTION:Lideremos Guatemala Cohort 3 \nFirst Seminar
URL:https://www.califoundation.org/event/lideremos-guatemala-cohort-3/
END:VEVENT
BEGIN:VEVENT
DTSTART;VALUE=DATE:20260602
DTEND;VALUE=DATE:20260607
DTSTAMP:20260423T051524
CREATED:20250918T141926Z
LAST-MODIFIED:20250918T141926Z
UID:2884-1780358400-1780790399@www.califoundation.org
SUMMARY:Seminar 17.4: The Promise of Leadership
DESCRIPTION:Class 17\nSeminar 17.4: The Promise of Leadership\nGraduation seminar
URL:https://www.califoundation.org/event/seminar-17-4-the-promise-of-leadership/
END:VEVENT
BEGIN:VEVENT
DTSTART;VALUE=DATE:20260616
DTEND;VALUE=DATE:20260617
DTSTAMP:20260423T051524
CREATED:20250519T205404Z
LAST-MODIFIED:20250519T205404Z
UID:2481-1781568000-1781654399@www.califoundation.org
SUMMARY:Lideremos Panama Inaugural Cohort - Second Virtual Encounter
DESCRIPTION:
URL:https://www.califoundation.org/event/lideremos-panama-inaugural-cohort-second-virtual-encounter/
END:VEVENT
BEGIN:VEVENT
DTSTART;VALUE=DATE:20260623
DTEND;VALUE=DATE:20260625
DTSTAMP:20260423T051524
CREATED:20251119T194150Z
LAST-MODIFIED:20251119T194150Z
UID:2923-1782172800-1782345599@www.califoundation.org
SUMMARY:Lideremos Guatemala Cohort 3
DESCRIPTION:Lideremos Guatemala Cohort 3 \nFirst leadership immersion
URL:https://www.califoundation.org/event/lideremos-guatemala-cohort-3-2/
END:VEVENT
BEGIN:VEVENT
DTSTART;VALUE=DATE:20260623
DTEND;VALUE=DATE:20260627
DTSTAMP:20260423T051524
CREATED:20251119T194218Z
LAST-MODIFIED:20251119T194218Z
UID:2925-1782172800-1782518399@www.califoundation.org
SUMMARY:Lideremos Costa Rica Inaugural Cohort
DESCRIPTION:Lideremos Costa Rica Inaugural Cohort \nFirst Seminar
URL:https://www.califoundation.org/event/lideremos-costa-rica-inaugural-cohort/
END:VEVENT
BEGIN:VEVENT
DTSTART;VALUE=DATE:20260721
DTEND;VALUE=DATE:20260727
DTSTAMP:20260423T051524
CREATED:20251119T194245Z
LAST-MODIFIED:20251119T194245Z
UID:2927-1784592000-1785110399@www.califoundation.org
SUMMARY:Resnick Aspen Action Forum
DESCRIPTION:Resnick Aspen Action Forum \nAspen\, Colorado
URL:https://www.califoundation.org/event/resnick-aspen-action-forum-2/
END:VEVENT
BEGIN:VEVENT
DTSTART;VALUE=DATE:20260826
DTEND;VALUE=DATE:20260830
DTSTAMP:20260423T051524
CREATED:20250519T205429Z
LAST-MODIFIED:20250731T214307Z
UID:2483-1787702400-1788047999@www.califoundation.org
SUMMARY:Lideremos Panamá Inaugural Cohort - Graduation seminar
DESCRIPTION:
URL:https://www.califoundation.org/event/lideremos-panama-inaugural-cohort-graduation-seminar/
END:VEVENT
BEGIN:VEVENT
DTSTART;VALUE=DATE:20260826
DTEND;VALUE=DATE:20260830
DTSTAMP:20260423T051524
CREATED:20250918T141953Z
LAST-MODIFIED:20250918T141953Z
UID:2886-1787702400-1788047999@www.califoundation.org
SUMMARY:Lideremos Panamá Cohort 2
DESCRIPTION:Lideremos Panamá Cohort 2\nSeminar 2.1
URL:https://www.califoundation.org/event/lideremos-panama-cohort-2/
END:VEVENT
BEGIN:VEVENT
DTSTART;VALUE=DATE:20260929
DTEND;VALUE=DATE:20261003
DTSTAMP:20260423T051524
CREATED:20251119T194342Z
LAST-MODIFIED:20251119T194342Z
UID:2929-1790640000-1790985599@www.califoundation.org
SUMMARY:Lideremos Panama Cohort 2
DESCRIPTION:Lideremos Panama Cohort 2 \nFirst seminar
URL:https://www.califoundation.org/event/lideremos-panama-cohort-2-3/
END:VEVENT
BEGIN:VEVENT
DTSTART;VALUE=DATE:20261013
DTEND;VALUE=DATE:20261014
DTSTAMP:20260423T051524
CREATED:20251119T194405Z
LAST-MODIFIED:20251119T194405Z
UID:2931-1791849600-1791935999@www.califoundation.org
SUMMARY:Lideremos Guatemala Cohort 3
DESCRIPTION:Lideremos Guatemala Cohort 3 \nFirst virtual meeting
URL:https://www.califoundation.org/event/lideremos-guatemala-cohort-3-3/
END:VEVENT
BEGIN:VEVENT
DTSTART;VALUE=DATE:20261020
DTEND;VALUE=DATE:20261025
DTSTAMP:20260423T051524
CREATED:20251119T194436Z
LAST-MODIFIED:20251119T194436Z
UID:2933-1792454400-1792886399@www.califoundation.org
SUMMARY:Seminar 19.1 The Leadership Challenge
DESCRIPTION:Class 19 \nSeminar 19.1 The Leadership Challenge
URL:https://www.califoundation.org/event/seminar-19-1-the-leadership-challenge/
END:VEVENT
BEGIN:VEVENT
DTSTART;VALUE=DATE:20270418
DTEND;VALUE=DATE:20270425
DTSTAMP:20260423T051524
CREATED:20250918T142155Z
LAST-MODIFIED:20250918T142155Z
UID:2892-1808006400-1808611199@www.califoundation.org
SUMMARY:Seminar 19.2: The Aspen Seminar
DESCRIPTION:Class 19\nSeminar 19.2: The Aspen Seminar
URL:https://www.califoundation.org/event/seminar-19-2-the-aspen-seminar/
END:VEVENT
BEGIN:VEVENT
DTSTART;VALUE=DATE:20270601
DTEND;VALUE=DATE:20270606
DTSTAMP:20260423T051524
CREATED:20241106T154749Z
LAST-MODIFIED:20250918T141608Z
UID:2336-1811808000-1812239999@www.califoundation.org
SUMMARY:Seminar 18.4: The Promise of Leadership
DESCRIPTION:Class 18\nSeminar 18.4: The Promise of Leadership\nGraduation seminar
URL:https://www.califoundation.org/event/seminario-18-4/
END:VEVENT
BEGIN:VEVENT
DTSTART;VALUE=DATE:20280611
DTEND;VALUE=DATE:20280616
DTSTAMP:20260423T051524
CREATED:20250918T142226Z
LAST-MODIFIED:20250918T142226Z
UID:2894-1844294400-1844726399@www.califoundation.org
SUMMARY:Seminar 19.4:  The Promise of Leadership
DESCRIPTION:Class 19\nSeminar 19.4:  The Promise of Leadership\nGraduation seminar
URL:https://www.califoundation.org/event/seminar-19-4-the-promise-of-leadership/
END:VEVENT
END:VCALENDAR